BEGIN:VCALENDAR
VERSION:2.0
PRODID:-//St. Cecilia Church - ECPv6.15.18//NONSGML v1.0//EN
CALSCALE:GREGORIAN
METHOD:PUBLISH
X-ORIGINAL-URL:https://stcecilia.org
X-WR-CALDESC:Events for St. Cecilia Church
REFRESH-INTERVAL;VALUE=DURATION:PT1H
X-Robots-Tag:noindex
X-PUBLISHED-TTL:PT1H
BEGIN:VTIMEZONE
TZID:America/Los_Angeles
BEGIN:DAYLIGHT
TZOFFSETFROM:-0800
TZOFFSETTO:-0700
TZNAME:PDT
DTSTART:20250309T100000
END:DAYLIGHT
BEGIN:STANDARD
TZOFFSETFROM:-0700
TZOFFSETTO:-0800
TZNAME:PST
DTSTART:20251102T090000
END:STANDARD
BEGIN:DAYLIGHT
TZOFFSETFROM:-0800
TZOFFSETTO:-0700
TZNAME:PDT
DTSTART:20260308T100000
END:DAYLIGHT
BEGIN:STANDARD
TZOFFSETFROM:-0700
TZOFFSETTO:-0800
TZNAME:PST
DTSTART:20261101T090000
END:STANDARD
BEGIN:DAYLIGHT
TZOFFSETFROM:-0800
TZOFFSETTO:-0700
TZNAME:PDT
DTSTART:20270314T100000
END:DAYLIGHT
BEGIN:STANDARD
TZOFFSETFROM:-0700
TZOFFSETTO:-0800
TZNAME:PST
DTSTART:20271107T090000
END:STANDARD
END:VTIMEZONE
BEGIN:VEVENT
DTSTART;TZID=America/Los_Angeles:20260417T190000
DTEND;TZID=America/Los_Angeles:20260417T210000
DTSTAMP:20260422T050721
CREATED:20260414T012641Z
LAST-MODIFIED:20260414T012643Z
UID:10000269-1776452400-1776459600@stcecilia.org
SUMMARY:Game Night
DESCRIPTION:Come join us for an evening full of games\, delicious treats\, music and a whole lot of laughter! \n\n\n\nAges 18+ \n\n\n\nRSVP for more information! \n\n\n\nIf you have questions about this event or would like more information regarding future Young Adult events\, contact Moses Nuñez\, Youth and Young Adult Coordinator at St. Cecilia.  \n\n\n\nEmail: mnunez@stcecilia.org or call: (714) 544-3250 Ext. 116
URL:https://stcecilia.org/event/game-night/
LOCATION:California
ATTACH;FMTTYPE=image/jpeg:https://stcecilia.org/wp-content/uploads/2026/04/SC-Event-Flyer-Templates-23.jpg
END:VEVENT
BEGIN:VEVENT
DTSTART;TZID=America/Los_Angeles:20260419T083000
DTEND;TZID=America/Los_Angeles:20260419T180000
DTSTAMP:20260422T050721
CREATED:20260414T011948Z
LAST-MODIFIED:20260414T012206Z
UID:10000268-1776587400-1776621600@stcecilia.org
SUMMARY:Youth Ministry Fruit Cup Fundraiser
DESCRIPTION:Come support our youth grow in their faith\, build lifelong friendships\, and live as disciples of Christ!All proceeds go toward supporting:Steubenville Conference\, Youth Nights\, Bible Studies\, Retreats & Summer Events
URL:https://stcecilia.org/event/youth-ministry-fruit-cup-fundraiser/
LOCATION:St. Cecilia Church\, 1301 Sycamore Avenue\, Tustin\, CA\, 92780\, United States
ATTACH;FMTTYPE=image/jpeg:https://stcecilia.org/wp-content/uploads/2026/04/2023-Holy-Week-Schedule-22.jpg
GEO:33.727207;-117.825679
X-APPLE-STRUCTURED-LOCATION;VALUE=URI;X-ADDRESS=St. Cecilia Church 1301 Sycamore Avenue Tustin CA 92780 United States;X-APPLE-RADIUS=500;X-TITLE=1301 Sycamore Avenue:geo:-117.825679,33.727207
END:VEVENT
BEGIN:VEVENT
DTSTART;TZID=America/Los_Angeles:20260523T080000
DTEND;TZID=America/Los_Angeles:20260523T160000
DTSTAMP:20260422T050721
CREATED:20260420T184213Z
LAST-MODIFIED:20260420T184214Z
UID:10000270-1779523200-1779552000@stcecilia.org
SUMMARY:Community Health and Resource Fair
DESCRIPTION:AAWA‑OC Community Health and Resource Fair \n\n\n\nThe Asian American Women Association of Orange County (AAWA‑OC) invites the community to a Community Health and Resource Fair on Saturday\, May 23\, 2026\, from 8 AM to 4 PM at Parish Hall\, St. Cecilia Catholic Church\, 1301 Sycamore Ave\, Tustin\, CA. \n\n\n\nThis free event offers a wide range of health services\, including blood pressure checks\, heart rate and oxygen screening\, height\, weight and BMI measurement\, glucose screening\, TMJ evaluation\, and medication reconciliation. Attendees can also ask the experts for vision and hearing screenings\, chiropractic treatment and massage\, memory testing\, bone density tests\, and Medicare and insurance resources. \n\n\n\nJoin community partners and healthcare professionals for a day focused on wellness\, education\, and access to essential health resources—open to all.
URL:https://stcecilia.org/event/community-health-and-resource-fair/
LOCATION:St. Cecilia Church Parish Hall\, 1301 Sycamore Ave\, Tustin\, California\, 92780\, United States
ATTACH;FMTTYPE=image/jpeg:https://stcecilia.org/wp-content/uploads/2026/04/SC-Event-Flyer-Templates-24.jpg
END:VEVENT
END:VCALENDAR