BEGIN:VCALENDAR
VERSION:2.0
PRODID:-//St. Cecilia Church - ECPv6.15.18//NONSGML v1.0//EN
CALSCALE:GREGORIAN
METHOD:PUBLISH
X-WR-CALNAME:St. Cecilia Church
X-ORIGINAL-URL:https://stcecilia.org
X-WR-CALDESC:Events for St. Cecilia Church
REFRESH-INTERVAL;VALUE=DURATION:PT1H
X-Robots-Tag:noindex
X-PUBLISHED-TTL:PT1H
BEGIN:VTIMEZONE
TZID:America/Los_Angeles
BEGIN:DAYLIGHT
TZOFFSETFROM:-0800
TZOFFSETTO:-0700
TZNAME:PDT
DTSTART:20250309T100000
END:DAYLIGHT
BEGIN:STANDARD
TZOFFSETFROM:-0700
TZOFFSETTO:-0800
TZNAME:PST
DTSTART:20251102T090000
END:STANDARD
BEGIN:DAYLIGHT
TZOFFSETFROM:-0800
TZOFFSETTO:-0700
TZNAME:PDT
DTSTART:20260308T100000
END:DAYLIGHT
BEGIN:STANDARD
TZOFFSETFROM:-0700
TZOFFSETTO:-0800
TZNAME:PST
DTSTART:20261101T090000
END:STANDARD
BEGIN:DAYLIGHT
TZOFFSETFROM:-0800
TZOFFSETTO:-0700
TZNAME:PDT
DTSTART:20270314T100000
END:DAYLIGHT
BEGIN:STANDARD
TZOFFSETFROM:-0700
TZOFFSETTO:-0800
TZNAME:PST
DTSTART:20271107T090000
END:STANDARD
END:VTIMEZONE
BEGIN:VEVENT
DTSTART;TZID=America/Los_Angeles:20260222T080000
DTEND;TZID=America/Los_Angeles:20260222T140000
DTSTAMP:20260420T053636
CREATED:20260217T181958Z
LAST-MODIFIED:20260217T182713Z
UID:10000257-1771747200-1771768800@stcecilia.org
SUMMARY:American Red Cross Blood Drive
DESCRIPTION:
URL:https://stcecilia.org/event/american-red-cross-blood-drive/
LOCATION:St. Cecilia Church\, 1301 Sycamore Avenue\, Tustin\, CA\, 92780\, United States
ATTACH;FMTTYPE=image/jpeg:https://stcecilia.org/wp-content/uploads/2026/01/2025-Christmas-New-Years-Flyer-6.jpg
GEO:33.727207;-117.825679
X-APPLE-STRUCTURED-LOCATION;VALUE=URI;X-ADDRESS=St. Cecilia Church 1301 Sycamore Avenue Tustin CA 92780 United States;X-APPLE-RADIUS=500;X-TITLE=1301 Sycamore Avenue:geo:-117.825679,33.727207
END:VEVENT
BEGIN:VEVENT
DTSTART;TZID=America/Los_Angeles:20260221T090000
DTEND;TZID=America/Los_Angeles:20260221T120000
DTSTAMP:20260420T053636
CREATED:20260217T183423Z
LAST-MODIFIED:20260316T163132Z
UID:10000258-1771664400-1771675200@stcecilia.org
SUMMARY:The Book of Job: Suffering\, and the Meaning of Life
DESCRIPTION:RSVP Here: Bible Institute ~ Retreats 2026 \n\n\n\nJob Chapter 1-2 – Introduction\, Job’s sufferings\, loses his possessions\, his children and his health. Special features in the Hebrew Bible.Job Chapters 3 ‒ Job’s response to his suffering and his three friends. Examining the assumptions about sin and suffering.Job Chapters 4-14 ‒ Understanding the three rounds of debate in the book of Job. Questions concerning God’s divine action or non-intervention.Job Chapter 15‒26 ‒ Suffering\, death and Job’s redeemerJob Chapters 27 and 37 ‒ Job speaks a total of ten times. Job’s longing for God and the question of righteousness. The unique role of Elihu and the rhetoric of his words.Job chapters 38-40 ‒ Job finally encounters the Lord in the tempest/whirlwind and the Lord responds to Job.
URL:https://stcecilia.org/event/the-book-of-job-suffering-and-the-meaning-of-life/
LOCATION:St. Cecilia Church\, 1301 Sycamore Avenue\, Tustin\, CA\, 92780\, United States
ATTACH;FMTTYPE=image/jpeg:https://stcecilia.org/wp-content/uploads/2026/01/Book-of-Job.jpg
GEO:33.727207;-117.825679
X-APPLE-STRUCTURED-LOCATION;VALUE=URI;X-ADDRESS=St. Cecilia Church 1301 Sycamore Avenue Tustin CA 92780 United States;X-APPLE-RADIUS=500;X-TITLE=1301 Sycamore Avenue:geo:-117.825679,33.727207
END:VEVENT
END:VCALENDAR